BEGIN:VCALENDAR
VERSION:2.0
PRODID:-//hacksw/handcal//NONSGML v1.0//EN
CALSCALE:GREGORIAN
BEGIN:VEVENT
LOCATION:Tarble Museum of Art
DTSTART:20230817T230000Z
DTEND:20230818T045900Z
SUMMARY:EIU the Greatest School on Earth! Fall Fair
URL;VALUE=URI:
DTSTAMP:20260419T215130Z
UID:69e594b200110
END:VEVENT
END:VCALENDAR